BEGIN:VCALENDAR
VERSION:2.0
PRODID:-//wp-events-plugin.com//7.2.3.1//EN
BEGIN:VEVENT
UID:21@asociacionambe.com
DTSTART:20231123T100000Z
DTEND:20231123T113000Z
DTSTAMP:20231127T105607Z
URL:https://asociacionambe.com/events/webinar-para-asociados-sostenibilida
 d-en-la-industria/
SUMMARY:WEBINAR PARA ASOCIADOS: SOSTENIBILIDAD EN LA INDUSTRIA
DESCRIPTION:A iniciativa del Grupo de Trabajo Normativa y Sostenibilidad de
  AMBE\, el 23 de noviembre la asociación organiza un webinar exclusivo pa
 ra asociados de AMBE sobre sostenibilidad en el sector de la bicicleta. Se
  abordarán cuestiones que abarcan todos los ámbitos de esta temática: d
 esde conceptos básicos a nuevas tendencias pasando por cuestiones normati
 vas tanto estatales como europeas.\n\nPara el webinar contaremos con invit
 ados expertos:\n\n 	Manuel Marsilio\, Director General de CONEBI (Confed
 eración de la Industria Ciclista Europea) - Normativa europea:\n\n 	Regu
 lación de Baterías\n 	Ecodiseño y "Derecho" a reparar\n 	Compromiso de 
 la Industria Ciclista por el Clima\n\n\n 	Mayte García\, responsable de l
 a Fundación Recyclia - Ecopilas - Normativa estatal:\n\n 	Envases y Re
 siduos de Envases\n 	Importación de Baterías y Aparatos Electrónicos\n\
 n\n 	Igor Lopes\, especialista de producto en Inchainge:\n\n 	Economía C
 ircular\n\n\n\nSi eres una empresa asociada a AMBE y deseas participar o c
 onocer los resultados del encuentro\, no dudes en ponerte en contacto con 
 nosotros: info@asociacionambe.com\n\n&nbsp\;\n\nPuedes consultar toda la i
 nformación sobre este evento aquí 
CATEGORIES:general
END:VEVENT
END:VCALENDAR